Package: GOSim Version: 1.38.0 Command: F:\biocbuild\bbs-3.17-bioc\R\bin\R.exe CMD INSTALL GOSim StartedAt: 2023-10-15 16:10:11 -0400 (Sun, 15 Oct 2023) EndedAt: 2023-10-15 16:10:49 -0400 (Sun, 15 Oct 2023) EllapsedTime: 37.9 seconds RetCode: 0 Status: OK