Package: GOSim Version: 1.38.0 Command: chmod a+r GOSim -R && F:\biocbuild\bbs-3.17-bioc\R\bin\R.exe CMD build --keep-empty-dirs --no-resave-data GOSim StartedAt: 2023-10-15 19:37:56 -0400 (Sun, 15 Oct 2023) EndedAt: 2023-10-15 19:39:20 -0400 (Sun, 15 Oct 2023) EllapsedTime: 84.2 seconds RetCode: 0 Status: OK PackageFile: GOSim_1.38.0.tar.gz PackageFileSize: 428.1 KiB