Package: GOSim Version: 1.38.0 Command: /home/biocbuild/bbs-3.17-bioc/R/bin/R CMD check --install=check:GOSim.install-out.txt --library=/home/biocbuild/bbs-3.17-bioc/R/site-library --timings GOSim_1.38.0.tar.gz StartedAt: 2023-10-15 21:46:18 -0400 (Sun, 15 Oct 2023) EndedAt: 2023-10-15 21:52:34 -0400 (Sun, 15 Oct 2023) EllapsedTime: 375.3 seconds RetCode: 0 Status: WARNINGS CheckDir: GOSim.Rcheck Warnings: 1