Package: GOSim Version: 1.38.0 Command: /Library/Frameworks/R.framework/Resources/bin/R CMD build --keep-empty-dirs --no-resave-data GOSim StartedAt: 2023-10-15 18:39:43 -0400 (Sun, 15 Oct 2023) EndedAt: 2023-10-15 18:42:52 -0400 (Sun, 15 Oct 2023) EllapsedTime: 189.3 seconds RetCode: 0 Status: OK PackageFile: GOSim_1.38.0.tar.gz PackageFileSize: 562.7 KiB