Package: GOSemSim Version: 2.26.1 Command: F:\biocbuild\bbs-3.17-bioc\R\bin\R.exe CMD check --no-multiarch --install=check:GOSemSim.install-out.txt --library=F:\biocbuild\bbs-3.17-bioc\R\library --no-vignettes --timings GOSemSim_2.26.1.tar.gz StartedAt: 2023-10-16 02:45:08 -0400 (Mon, 16 Oct 2023) EndedAt: 2023-10-16 02:48:03 -0400 (Mon, 16 Oct 2023) EllapsedTime: 175.2 seconds RetCode: 0 Status: OK CheckDir: GOSemSim.Rcheck Warnings: 0