Package: GOSemSim Version: 2.26.1 Command: /Library/Frameworks/R.framework/Resources/bin/R CMD build --keep-empty-dirs --no-resave-data GOSemSim StartedAt: 2023-10-15 18:39:18 -0400 (Sun, 15 Oct 2023) EndedAt: 2023-10-15 18:40:21 -0400 (Sun, 15 Oct 2023) EllapsedTime: 63.4 seconds RetCode: 0 Status: OK PackageFile: GOSemSim_2.26.1.tar.gz PackageFileSize: 592 KiB