Package: GOSemSim Version: 2.26.1 Command: rm -rf GOSemSim.buildbin-libdir && mkdir GOSemSim.buildbin-libdir && /Users/biocbuild/BBS/utils/build-universal.sh GOSemSim_2.26.1.tar.gz /Library/Frameworks/R.framework/Resources/bin/R GOSemSim.buildbin-libdir StartedAt: 2023-10-16 09:30:13 -0400 (Mon, 16 Oct 2023) EndedAt: 2023-10-16 09:31:42 -0400 (Mon, 16 Oct 2023) EllapsedTime: 89.3 seconds RetCode: 0 Status: OK PackageFile: GOSemSim_2.26.1.tgz PackageFileSize: 907.5 KiB