Package: GNET2 Version: 1.16.0 Command: rm -rf GNET2.buildbin-libdir && mkdir GNET2.buildbin-libdir && /Users/biocbuild/BBS/utils/build-universal.sh GNET2_1.16.0.tar.gz /Library/Frameworks/R.framework/Resources/bin/R GNET2.buildbin-libdir StartedAt: 2023-10-16 09:30:08 -0400 (Mon, 16 Oct 2023) EndedAt: 2023-10-16 09:32:07 -0400 (Mon, 16 Oct 2023) EllapsedTime: 119.3 seconds RetCode: 0 Status: OK PackageFile: GNET2_1.16.0.tgz PackageFileSize: 850.6 KiB