Package: GMRP Version: 1.28.0 Command: /home/biocbuild/bbs-3.17-bioc/R/bin/R CMD check --install=check:GMRP.install-out.txt --library=/home/biocbuild/bbs-3.17-bioc/R/site-library --timings GMRP_1.28.0.tar.gz StartedAt: 2023-10-15 21:44:37 -0400 (Sun, 15 Oct 2023) EndedAt: 2023-10-15 21:45:59 -0400 (Sun, 15 Oct 2023) EllapsedTime: 82.0 seconds RetCode: 0 Status: WARNINGS CheckDir: GMRP.Rcheck Warnings: 1