Package: GMRP Version: 1.28.0 Command: /home/biocbuild/bbs-3.17-bioc/R/bin/R CMD build --keep-empty-dirs --no-resave-data GMRP StartedAt: 2023-10-15 16:58:10 -0400 (Sun, 15 Oct 2023) EndedAt: 2023-10-15 16:58:28 -0400 (Sun, 15 Oct 2023) EllapsedTime: 17.9 seconds RetCode: 0 Status: OK PackageFile: GMRP_1.28.0.tar.gz PackageFileSize: 896.9 KiB