Package: GMRP Version: 1.28.0 Command: /Library/Frameworks/R.framework/Resources/bin/R CMD check --install=check:GMRP.install-out.txt --library=/Library/Frameworks/R.framework/Resources/library --no-vignettes --timings GMRP_1.28.0.tar.gz StartedAt: 2023-10-16 02:17:51 -0400 (Mon, 16 Oct 2023) EndedAt: 2023-10-16 02:21:05 -0400 (Mon, 16 Oct 2023) EllapsedTime: 193.7 seconds RetCode: 0 Status: WARNINGS CheckDir: GMRP.Rcheck Warnings: 1