Package: GLAD Version: 2.64.0 Command: /home/biocbuild/bbs-3.17-bioc/R/bin/R CMD check --install=check:GLAD.install-out.txt --library=/home/biocbuild/bbs-3.17-bioc/R/site-library --timings GLAD_2.64.0.tar.gz StartedAt: 2023-10-15 21:43:10 -0400 (Sun, 15 Oct 2023) EndedAt: 2023-10-15 21:43:40 -0400 (Sun, 15 Oct 2023) EllapsedTime: 29.6 seconds RetCode: 0 Status: WARNINGS CheckDir: GLAD.Rcheck Warnings: 2