Package: GISPA Version: 1.24.0 Command: /home/biocbuild/bbs-3.17-bioc/R/bin/R CMD INSTALL GISPA StartedAt: 2023-10-15 15:36:29 -0400 (Sun, 15 Oct 2023) EndedAt: 2023-10-15 15:36:55 -0400 (Sun, 15 Oct 2023) EllapsedTime: 26.2 seconds RetCode: 0 Status: OK