Package: GISPA Version: 1.24.0 Command: /Library/Frameworks/R.framework/Resources/bin/R CMD check --install=check:GISPA.install-out.txt --library=/Library/Frameworks/R.framework/Resources/library --no-vignettes --timings GISPA_1.24.0.tar.gz StartedAt: 2023-10-16 02:15:56 -0400 (Mon, 16 Oct 2023) EndedAt: 2023-10-16 02:22:51 -0400 (Mon, 16 Oct 2023) EllapsedTime: 415.0 seconds RetCode: 0 Status: OK CheckDir: GISPA.Rcheck Warnings: 0