Package: GIGSEA Version: 1.18.0 Command: /Library/Frameworks/R.framework/Resources/bin/R CMD build --keep-empty-dirs --no-resave-data GIGSEA StartedAt: 2023-10-15 18:36:35 -0400 (Sun, 15 Oct 2023) EndedAt: 2023-10-15 18:43:45 -0400 (Sun, 15 Oct 2023) EllapsedTime: 429.9 seconds RetCode: 0 Status: OK PackageFile: GIGSEA_1.18.0.tar.gz PackageFileSize: 1.325 MiB