Package: GEWIST Version: 1.44.0 Command: F:\biocbuild\bbs-3.17-bioc\R\bin\R.exe CMD INSTALL GEWIST StartedAt: 2023-10-15 16:40:27 -0400 (Sun, 15 Oct 2023) EndedAt: 2023-10-15 16:40:31 -0400 (Sun, 15 Oct 2023) EllapsedTime: 4.1 seconds RetCode: 0 Status: OK