Package: GEWIST Version: 1.44.0 Command: chmod a+r GEWIST -R && F:\biocbuild\bbs-3.17-bioc\R\bin\R.exe CMD build --keep-empty-dirs --no-resave-data GEWIST StartedAt: 2023-10-15 19:31:53 -0400 (Sun, 15 Oct 2023) EndedAt: 2023-10-15 19:33:32 -0400 (Sun, 15 Oct 2023) EllapsedTime: 99.0 seconds RetCode: 0 Status: OK PackageFile: GEWIST_1.44.0.tar.gz PackageFileSize: 267 KiB