Package: GEWIST Version: 1.44.0 Command: /Library/Frameworks/R.framework/Resources/bin/R CMD INSTALL GEWIST StartedAt: 2023-10-15 16:02:26 -0400 (Sun, 15 Oct 2023) EndedAt: 2023-10-15 16:02:32 -0400 (Sun, 15 Oct 2023) EllapsedTime: 5.9 seconds RetCode: 0 Status: OK