Package: GEWIST Version: 1.44.0 Command: /Library/Frameworks/R.framework/Resources/bin/R CMD build --keep-empty-dirs --no-resave-data GEWIST StartedAt: 2023-10-15 18:35:12 -0400 (Sun, 15 Oct 2023) EndedAt: 2023-10-15 18:38:49 -0400 (Sun, 15 Oct 2023) EllapsedTime: 216.4 seconds RetCode: 0 Status: OK PackageFile: GEWIST_1.44.0.tar.gz PackageFileSize: 388.5 KiB