Package: GEOquery Version: 2.68.0 Command: F:\biocbuild\bbs-3.17-bioc\R\bin\R.exe CMD INSTALL GEOquery StartedAt: 2023-10-15 15:52:55 -0400 (Sun, 15 Oct 2023) EndedAt: 2023-10-15 15:53:09 -0400 (Sun, 15 Oct 2023) EllapsedTime: 14.4 seconds RetCode: 0 Status: OK