Package: GEOquery Version: 2.68.0 Command: chmod a+r GEOquery -R && F:\biocbuild\bbs-3.17-bioc\R\bin\R.exe CMD build --keep-empty-dirs --no-resave-data GEOquery StartedAt: 2023-10-15 19:31:03 -0400 (Sun, 15 Oct 2023) EndedAt: 2023-10-15 19:31:53 -0400 (Sun, 15 Oct 2023) EllapsedTime: 49.4 seconds RetCode: 0 Status: OK PackageFile: GEOquery_2.68.0.tar.gz PackageFileSize: 13.06 MiB