Package: GEOquery Version: 2.68.0 Command: rm -rf GEOquery.buildbin-libdir && mkdir GEOquery.buildbin-libdir && F:\biocbuild\bbs-3.17-bioc\R\bin\R.exe CMD INSTALL --build --library=GEOquery.buildbin-libdir GEOquery_2.68.0.tar.gz StartedAt: 2023-10-16 08:52:17 -0400 (Mon, 16 Oct 2023) EndedAt: 2023-10-16 08:52:38 -0400 (Mon, 16 Oct 2023) EllapsedTime: 21.2 seconds RetCode: 0 Status: OK PackageFile: GEOquery_2.68.0.zip PackageFileSize: 13.27 MiB