Package: GEOmetadb Version: 1.62.0 Command: chmod a+r GEOmetadb -R && F:\biocbuild\bbs-3.17-bioc\R\bin\R.exe CMD build --keep-empty-dirs --no-resave-data GEOmetadb StartedAt: 2023-10-15 19:30:49 -0400 (Sun, 15 Oct 2023) EndedAt: 2023-10-15 19:31:20 -0400 (Sun, 15 Oct 2023) EllapsedTime: 31.4 seconds RetCode: 0 Status: OK PackageFile: GEOmetadb_1.62.0.tar.gz PackageFileSize: 20.34 MiB