Package: GEOmetadb Version: 1.62.0 Command: rm -rf GEOmetadb.buildbin-libdir && mkdir GEOmetadb.buildbin-libdir && F:\biocbuild\bbs-3.17-bioc\R\bin\R.exe CMD INSTALL --build --library=GEOmetadb.buildbin-libdir GEOmetadb_1.62.0.tar.gz StartedAt: 2023-10-16 08:52:16 -0400 (Mon, 16 Oct 2023) EndedAt: 2023-10-16 08:52:37 -0400 (Mon, 16 Oct 2023) EllapsedTime: 21.0 seconds RetCode: 0 Status: OK PackageFile: GEOmetadb_1.62.0.zip PackageFileSize: 402.5 KiB