Package: GEOmetadb Version: 1.62.0 Command: /home/biocbuild/bbs-3.17-bioc/R/bin/R CMD check --install=check:GEOmetadb.install-out.txt --library=/home/biocbuild/bbs-3.17-bioc/R/site-library --timings GEOmetadb_1.62.0.tar.gz StartedAt: 2023-10-15 21:39:05 -0400 (Sun, 15 Oct 2023) EndedAt: 2023-10-15 21:40:05 -0400 (Sun, 15 Oct 2023) EllapsedTime: 60.3 seconds RetCode: 1 Status: ERROR CheckDir: GEOmetadb.Rcheck Warnings: NA