Package: GEOfastq Version: 1.8.0 Command: /home/biocbuild/bbs-3.17-bioc/R/bin/R CMD check --install=check:GEOfastq.install-out.txt --library=/home/biocbuild/bbs-3.17-bioc/R/site-library --timings GEOfastq_1.8.0.tar.gz StartedAt: 2023-10-15 21:38:32 -0400 (Sun, 15 Oct 2023) EndedAt: 2023-10-15 21:39:05 -0400 (Sun, 15 Oct 2023) EllapsedTime: 32.4 seconds RetCode: 0 Status: OK CheckDir: GEOfastq.Rcheck Warnings: 0