Package: GEOfastq Version: 1.8.0 Command: /home/biocbuild/bbs-3.17-bioc/R/bin/R CMD build --keep-empty-dirs --no-resave-data GEOfastq StartedAt: 2023-10-15 16:55:46 -0400 (Sun, 15 Oct 2023) EndedAt: 2023-10-15 16:55:53 -0400 (Sun, 15 Oct 2023) EllapsedTime: 7.3 seconds RetCode: 0 Status: OK PackageFile: GEOfastq_1.8.0.tar.gz PackageFileSize: 13.29 KiB