Package: GEOexplorer Version: 1.6.0 Command: F:\biocbuild\bbs-3.17-bioc\R\bin\R.exe CMD check --no-multiarch --install=check:GEOexplorer.install-out.txt --library=F:\biocbuild\bbs-3.17-bioc\R\library --no-vignettes --timings GEOexplorer_1.6.0.tar.gz StartedAt: 2023-10-16 02:35:54 -0400 (Mon, 16 Oct 2023) EndedAt: 2023-10-16 02:38:51 -0400 (Mon, 16 Oct 2023) EllapsedTime: 176.9 seconds RetCode: 1 Status: ERROR CheckDir: GEOexplorer.Rcheck Warnings: NA