Package: GEOexplorer Version: 1.6.0 Command: chmod a+r GEOexplorer -R && F:\biocbuild\bbs-3.17-bioc\R\bin\R.exe CMD build --keep-empty-dirs --no-resave-data GEOexplorer StartedAt: 2023-10-15 19:30:22 -0400 (Sun, 15 Oct 2023) EndedAt: 2023-10-15 19:30:47 -0400 (Sun, 15 Oct 2023) EllapsedTime: 25.0 seconds RetCode: 0 Status: OK PackageFile: GEOexplorer_1.6.0.tar.gz PackageFileSize: 2.348 MiB