Package: GEOexplorer Version: 1.6.0 Command: /Library/Frameworks/R.framework/Resources/bin/R CMD INSTALL GEOexplorer StartedAt: 2023-10-15 16:26:55 -0400 (Sun, 15 Oct 2023) EndedAt: 2023-10-15 16:27:37 -0400 (Sun, 15 Oct 2023) EllapsedTime: 42.2 seconds RetCode: 0 Status: OK