Package: GENIE3 Version: 1.22.0 Command: rm -rf GENIE3.buildbin-libdir && mkdir GENIE3.buildbin-libdir && F:\biocbuild\bbs-3.17-bioc\R\bin\R.exe CMD INSTALL --build --library=GENIE3.buildbin-libdir GENIE3_1.22.0.tar.gz StartedAt: 2023-10-16 08:51:04 -0400 (Mon, 16 Oct 2023) EndedAt: 2023-10-16 08:51:18 -0400 (Mon, 16 Oct 2023) EllapsedTime: 13.4 seconds RetCode: 0 Status: OK PackageFile: GENIE3_1.22.0.zip PackageFileSize: 267 KiB