Package: GENIE3 Version: 1.22.0 Command: /home/biocbuild/bbs-3.17-bioc/R/bin/R CMD build --keep-empty-dirs --no-resave-data GENIE3 StartedAt: 2023-10-15 16:54:11 -0400 (Sun, 15 Oct 2023) EndedAt: 2023-10-15 16:54:18 -0400 (Sun, 15 Oct 2023) EllapsedTime: 6.6 seconds RetCode: 0 Status: OK PackageFile: GENIE3_1.22.0.tar.gz PackageFileSize: 241.3 KiB