Package: GENIE3 Version: 1.22.0 Command: /Library/Frameworks/R.framework/Resources/bin/R CMD INSTALL GENIE3 StartedAt: 2023-10-15 15:08:29 -0400 (Sun, 15 Oct 2023) EndedAt: 2023-10-15 15:09:12 -0400 (Sun, 15 Oct 2023) EllapsedTime: 43.4 seconds RetCode: 0 Status: OK