Package: GENIE3 Version: 1.22.0 Command: /Library/Frameworks/R.framework/Resources/bin/R CMD build --keep-empty-dirs --no-resave-data GENIE3 StartedAt: 2023-10-15 18:30:42 -0400 (Sun, 15 Oct 2023) EndedAt: 2023-10-15 18:30:59 -0400 (Sun, 15 Oct 2023) EllapsedTime: 16.9 seconds RetCode: 0 Status: OK PackageFile: GENIE3_1.22.0.tar.gz PackageFileSize: 241.3 KiB