Package: GENESIS Version: 2.30.0 Command: /home/biocbuild/bbs-3.17-bioc/R/bin/R CMD INSTALL GENESIS StartedAt: 2023-10-15 15:39:34 -0400 (Sun, 15 Oct 2023) EndedAt: 2023-10-15 15:40:02 -0400 (Sun, 15 Oct 2023) EllapsedTime: 27.4 seconds RetCode: 0 Status: OK