Package: GENESIS Version: 2.30.0 Command: /home/biocbuild/bbs-3.17-bioc/R/bin/R CMD build --keep-empty-dirs --no-resave-data GENESIS StartedAt: 2023-10-15 16:53:58 -0400 (Sun, 15 Oct 2023) EndedAt: 2023-10-15 16:55:46 -0400 (Sun, 15 Oct 2023) EllapsedTime: 108.2 seconds RetCode: 0 Status: OK PackageFile: GENESIS_2.30.0.tar.gz PackageFileSize: 3.666 MiB