Package: GEM Version: 1.26.0 Command: chmod a+r GEM -R && F:\biocbuild\bbs-3.17-bioc\R\bin\R.exe CMD build --keep-empty-dirs --no-resave-data GEM StartedAt: 2023-10-15 19:24:30 -0400 (Sun, 15 Oct 2023) EndedAt: 2023-10-15 19:24:50 -0400 (Sun, 15 Oct 2023) EllapsedTime: 20.1 seconds RetCode: 0 Status: OK PackageFile: GEM_1.26.0.tar.gz PackageFileSize: 419.4 KiB