Package: GEM Version: 1.26.0 Command: /home/biocbuild/bbs-3.17-bioc/R/bin/R CMD check --install=check:GEM.install-out.txt --library=/home/biocbuild/bbs-3.17-bioc/R/site-library --timings GEM_1.26.0.tar.gz StartedAt: 2023-10-15 21:29:37 -0400 (Sun, 15 Oct 2023) EndedAt: 2023-10-15 21:30:33 -0400 (Sun, 15 Oct 2023) EllapsedTime: 56.0 seconds RetCode: 0 Status: OK CheckDir: GEM.Rcheck Warnings: 0