Package: GEM Version: 1.26.0 Command: /Library/Frameworks/R.framework/Resources/bin/R CMD check --install=check:GEM.install-out.txt --library=/Library/Frameworks/R.framework/Resources/library --no-vignettes --timings GEM_1.26.0.tar.gz StartedAt: 2023-10-16 01:56:16 -0400 (Mon, 16 Oct 2023) EndedAt: 2023-10-16 01:58:53 -0400 (Mon, 16 Oct 2023) EllapsedTime: 156.6 seconds RetCode: 0 Status: OK CheckDir: GEM.Rcheck Warnings: 0