Package: GEM Version: 1.26.0 Command: /Library/Frameworks/R.framework/Resources/bin/R CMD build --keep-empty-dirs --no-resave-data GEM StartedAt: 2023-10-15 18:27:28 -0400 (Sun, 15 Oct 2023) EndedAt: 2023-10-15 18:28:04 -0400 (Sun, 15 Oct 2023) EllapsedTime: 35.9 seconds RetCode: 0 Status: OK PackageFile: GEM_1.26.0.tar.gz PackageFileSize: 613.2 KiB