Package: GDSArray Version: 1.20.0 Command: F:\biocbuild\bbs-3.17-bioc\R\bin\R.exe CMD INSTALL GDSArray StartedAt: 2023-10-15 15:57:07 -0400 (Sun, 15 Oct 2023) EndedAt: 2023-10-15 15:57:27 -0400 (Sun, 15 Oct 2023) EllapsedTime: 20.1 seconds RetCode: 0 Status: OK