Package: GDSArray Version: 1.20.0 Command: /home/biocbuild/bbs-3.17-bioc/R/bin/R CMD check --install=check:GDSArray.install-out.txt --library=/home/biocbuild/bbs-3.17-bioc/R/site-library --timings GDSArray_1.20.0.tar.gz StartedAt: 2023-10-15 21:29:32 -0400 (Sun, 15 Oct 2023) EndedAt: 2023-10-15 21:31:21 -0400 (Sun, 15 Oct 2023) EllapsedTime: 109.3 seconds RetCode: 0 Status: OK CheckDir: GDSArray.Rcheck Warnings: 0