Package: GDSArray Version: 1.20.0 Command: /Library/Frameworks/R.framework/Resources/bin/R CMD build --keep-empty-dirs --no-resave-data GDSArray StartedAt: 2023-10-15 18:27:25 -0400 (Sun, 15 Oct 2023) EndedAt: 2023-10-15 18:28:21 -0400 (Sun, 15 Oct 2023) EllapsedTime: 56.3 seconds RetCode: 0 Status: OK PackageFile: GDSArray_1.20.0.tar.gz PackageFileSize: 303.9 KiB