Package: GDCRNATools Version: 1.20.1 Command: chmod a+r GDCRNATools -R && F:\biocbuild\bbs-3.17-bioc\R\bin\R.exe CMD build --keep-empty-dirs --no-resave-data GDCRNATools StartedAt: 2023-10-15 19:24:15 -0400 (Sun, 15 Oct 2023) EndedAt: 2023-10-15 19:25:15 -0400 (Sun, 15 Oct 2023) EllapsedTime: 59.9 seconds RetCode: 0 Status: OK PackageFile: GDCRNATools_1.20.1.tar.gz PackageFileSize: 5.315 MiB