Package: GDCRNATools Version: 1.20.1 Command: /home/biocbuild/bbs-3.17-bioc/R/bin/R CMD INSTALL GDCRNATools StartedAt: 2023-10-15 15:45:30 -0400 (Sun, 15 Oct 2023) EndedAt: 2023-10-15 15:46:26 -0400 (Sun, 15 Oct 2023) EllapsedTime: 56.5 seconds RetCode: 0 Status: OK