Package: GDCRNATools Version: 1.20.1 Command: /home/biocbuild/bbs-3.17-bioc/R/bin/R CMD build --keep-empty-dirs --no-resave-data GDCRNATools StartedAt: 2023-10-15 16:52:27 -0400 (Sun, 15 Oct 2023) EndedAt: 2023-10-15 16:53:23 -0400 (Sun, 15 Oct 2023) EllapsedTime: 56.6 seconds RetCode: 0 Status: OK PackageFile: GDCRNATools_1.20.1.tar.gz PackageFileSize: 5.315 MiB