Package: GAprediction Version: 1.26.0 Command: F:\biocbuild\bbs-3.17-bioc\R\bin\R.exe CMD INSTALL GAprediction StartedAt: 2023-10-15 16:36:16 -0400 (Sun, 15 Oct 2023) EndedAt: 2023-10-15 16:36:31 -0400 (Sun, 15 Oct 2023) EllapsedTime: 15.5 seconds RetCode: 0 Status: OK