Package: GAprediction Version: 1.26.0 Command: rm -rf GAprediction.buildbin-libdir && mkdir GAprediction.buildbin-libdir && F:\biocbuild\bbs-3.17-bioc\R\bin\R.exe CMD INSTALL --build --library=GAprediction.buildbin-libdir GAprediction_1.26.0.tar.gz StartedAt: 2023-10-16 08:49:40 -0400 (Mon, 16 Oct 2023) EndedAt: 2023-10-16 08:49:54 -0400 (Mon, 16 Oct 2023) EllapsedTime: 13.9 seconds RetCode: 0 Status: OK PackageFile: GAprediction_1.26.0.zip PackageFileSize: 889.9 KiB