Package: GARS Version: 1.20.0 Command: /Library/Frameworks/R.framework/Resources/bin/R CMD build --keep-empty-dirs --no-resave-data GARS StartedAt: 2023-10-15 18:26:09 -0400 (Sun, 15 Oct 2023) EndedAt: 2023-10-15 18:30:48 -0400 (Sun, 15 Oct 2023) EllapsedTime: 279.4 seconds RetCode: 0 Status: OK PackageFile: GARS_1.20.0.tar.gz PackageFileSize: 438.4 KiB