Package: GARS Version: 1.20.0 Command: rm -rf GARS.buildbin-libdir && mkdir GARS.buildbin-libdir && /Users/biocbuild/BBS/utils/build-universal.sh GARS_1.20.0.tar.gz /Library/Frameworks/R.framework/Resources/bin/R GARS.buildbin-libdir StartedAt: 2023-10-16 09:26:09 -0400 (Mon, 16 Oct 2023) EndedAt: 2023-10-16 09:29:08 -0400 (Mon, 16 Oct 2023) EllapsedTime: 178.3 seconds RetCode: 0 Status: OK PackageFile: GARS_1.20.0.tgz PackageFileSize: 500.2 KiB